BEGIN:VCALENDAR
VERSION:2.0
PRODID:-//Department Of Education//8553c1f8-a81f-4e1a-9012-eb7f19df0ee3
BEGIN:VTIMEZONE
TZID:Australia/Sydney
TZURL:http://tzurl.org/zoneinfo-outlook/Australia/Sydney
X-LIC-LOCATION:Australia/Sydney
BEGIN:STANDARD
TZOFFSETFROM:+1100
TZOFFSETTO:+1000
TZNAME:AEST
DTSTART:19700405T030000
RRULE:FREQ=YEARLY;BYMONTH=4;BYDAY=1SU
END:STANDARD
BEGIN:DAYLIGHT
TZOFFSETFROM:+1000
TZOFFSETTO:+1100
TZNAME:AEDT
DTSTART:19701004T020000
RRULE:FREQ=YEARLY;BYMONTH=10;BYDAY=1SU
END:DAYLIGHT
END:VTIMEZONE
CALSCALE:GREGORIAN
X-WR-TIMEZONE:Australia/Sydney
BEGIN:VEVENT
DTSTART;VALUE=DATE:20200409
DTEND;VALUE=DATE:20200410
DTSTAMP:20200409T000000Z
UID:5e5d783e-f61b-46d8-afda-5262fb42314c
LOCATION:Menai High School
SUMMARY;LANGUAGE=en-us:Last day of Term 1
SEQUENCE:0
DESCRIPTION:Last day of Term 1, have a safe and enjoyable holiday.
END:VEVENT
TRANSP:TRANSPARENT
END:VCALENDAR
