BEGIN:VCALENDAR
VERSION:2.0
PRODID:-//Department Of Education//7237f49e-050c-43c4-8915-b31d646dd477
BEGIN:VTIMEZONE
TZID:Australia/Sydney
TZURL:http://tzurl.org/zoneinfo-outlook/Australia/Sydney
X-LIC-LOCATION:Australia/Sydney
BEGIN:STANDARD
TZOFFSETFROM:+1100
TZOFFSETTO:+1000
TZNAME:AEST
DTSTART:19700405T030000
RRULE:FREQ=YEARLY;BYMONTH=4;BYDAY=1SU
END:STANDARD
BEGIN:DAYLIGHT
TZOFFSETFROM:+1000
TZOFFSETTO:+1100
TZNAME:AEDT
DTSTART:19701004T020000
RRULE:FREQ=YEARLY;BYMONTH=10;BYDAY=1SU
END:DAYLIGHT
END:VTIMEZONE
CALSCALE:GREGORIAN
X-WR-TIMEZONE:Australia/Sydney
BEGIN:VEVENT
DTSTART;TZID=Australia/Sydney:20200228T180000
DTEND;TZID=Australia/Sydney:20200228T210000
DTSTAMP:20200228T000000Z
UID:27f74993-0477-44b0-b193-c6e138602f13
LOCATION:School hall
SUMMARY;LANGUAGE=en-us:Year 7 orientation dinner
SEQUENCE:0
DESCRIPTION:Orientation dinner for all new year 7 students.
END:VEVENT
TRANSP:TRANSPARENT
END:VCALENDAR
