BEGIN:VCALENDAR
VERSION:2.0
PRODID:-//Department Of Education//0fee4256-bc81-4c61-b9ee-1a6cc5bf680c
BEGIN:VTIMEZONE
TZID:Australia/Sydney
TZURL:http://tzurl.org/zoneinfo-outlook/Australia/Sydney
X-LIC-LOCATION:Australia/Sydney
BEGIN:STANDARD
TZOFFSETFROM:+1100
TZOFFSETTO:+1000
TZNAME:AEST
DTSTART:19700405T030000
RRULE:FREQ=YEARLY;BYMONTH=4;BYDAY=1SU
END:STANDARD
BEGIN:DAYLIGHT
TZOFFSETFROM:+1000
TZOFFSETTO:+1100
TZNAME:AEDT
DTSTART:19701004T020000
RRULE:FREQ=YEARLY;BYMONTH=10;BYDAY=1SU
END:DAYLIGHT
END:VTIMEZONE
CALSCALE:GREGORIAN
X-WR-TIMEZONE:Australia/Sydney
BEGIN:VEVENT
DTSTART;VALUE=DATE:20200304
DTEND;VALUE=DATE:20200305
DTSTAMP:20200304T000000Z
UID:148ba7f4-3a30-46a7-b6c4-9aec71840bbe
LOCATION:School auditorium
SUMMARY;LANGUAGE=en-us:Year 7 vaccinations
SEQUENCE:0
DESCRIPTION:Students in year 7 will be receiving vaccinations.
END:VEVENT
TRANSP:TRANSPARENT
END:VCALENDAR
